BEGIN:VCALENDAR
VERSION:2.0
PRODID:-//Dunsfold Parish Council//Meeting Calendar//EN
CALSCALE:GREGORIAN
METHOD:PUBLISH
BEGIN:VEVENT
UID:70839-20260310@dunsfoldparishcouncil.gov.uk
DTSTAMP:20260422T090206Z
DTSTART;VALUE=DATE:20260310
DTEND;VALUE=DATE:20260311
SUMMARY:Full Council Meeting 10th March 2026
DESCRIPTION:Full Council Meeting\nView details: https://dunsfoldparishcouncil.gov.uk/meetings/full-council-meeting-10th-march-2026/
URL:https://dunsfoldparishcouncil.gov.uk/meetings/full-council-meeting-10th-march-2026/
END:VEVENT
END:VCALENDAR
