BEGIN:VCALENDAR
VERSION:2.0
PRODID:-//Dunsfold Parish Council//Meeting Calendar//EN
CALSCALE:GREGORIAN
METHOD:PUBLISH
BEGIN:VEVENT
UID:70830-20251014@dunsfoldparishcouncil.gov.uk
DTSTAMP:20260422T092244Z
DTSTART;VALUE=DATE:20251014
DTEND;VALUE=DATE:20251015
SUMMARY:Full Council Meeting 14th October 2025
DESCRIPTION:Full Council Meeting\nView details: https://dunsfoldparishcouncil.gov.uk/meetings/full-council-meeting-14th-october-2025/
URL:https://dunsfoldparishcouncil.gov.uk/meetings/full-council-meeting-14th-october-2025/
END:VEVENT
END:VCALENDAR
