BEGIN:VCALENDAR
VERSION:2.0
PRODID:-//Dunsfold Parish Council//Meeting Calendar//EN
CALSCALE:GREGORIAN
METHOD:PUBLISH
BEGIN:VEVENT
UID:70582-20250617@dunsfoldparishcouncil.gov.uk
DTSTAMP:20260420T124946Z
DTSTART;VALUE=DATE:20250617
DTEND;VALUE=DATE:20250618
SUMMARY:Extraordinary Meeting &#8211\\; 17 June 2025
DESCRIPTION:Full Council Meeting\nView details: https://dunsfoldparishcouncil.gov.uk/meetings/extraordinary-meeting-17-june-2025/
URL:https://dunsfoldparishcouncil.gov.uk/meetings/extraordinary-meeting-17-june-2025/
END:VEVENT
END:VCALENDAR
